BEGIN:VCALENDAR
VERSION:2.0
PRODID:-//Joint Initiatives - ECPv6.15.20//NONSGML v1.0//EN
CALSCALE:GREGORIAN
METHOD:PUBLISH
X-WR-CALNAME:Joint Initiatives
X-ORIGINAL-URL:https://www.jointinitiatives.org
X-WR-CALDESC:Events for Joint Initiatives
REFRESH-INTERVAL;VALUE=DURATION:PT1H
X-Robots-Tag:noindex
X-PUBLISHED-TTL:PT1H
BEGIN:VTIMEZONE
TZID:America/Denver
BEGIN:DAYLIGHT
TZOFFSETFROM:-0700
TZOFFSETTO:-0600
TZNAME:MDT
DTSTART:20210314T090000
END:DAYLIGHT
BEGIN:STANDARD
TZOFFSETFROM:-0600
TZOFFSETTO:-0700
TZNAME:MST
DTSTART:20211107T080000
END:STANDARD
BEGIN:DAYLIGHT
TZOFFSETFROM:-0700
TZOFFSETTO:-0600
TZNAME:MDT
DTSTART:20220313T090000
END:DAYLIGHT
BEGIN:STANDARD
TZOFFSETFROM:-0600
TZOFFSETTO:-0700
TZNAME:MST
DTSTART:20221106T080000
END:STANDARD
BEGIN:DAYLIGHT
TZOFFSETFROM:-0700
TZOFFSETTO:-0600
TZNAME:MDT
DTSTART:20230312T090000
END:DAYLIGHT
BEGIN:STANDARD
TZOFFSETFROM:-0600
TZOFFSETTO:-0700
TZNAME:MST
DTSTART:20231105T080000
END:STANDARD
END:VTIMEZONE
BEGIN:VEVENT
DTSTART;TZID=America/Denver:20221029T090000
DTEND;TZID=America/Denver:20221029T120000
DTSTAMP:20260420T170837
CREATED:20220901T230921Z
LAST-MODIFIED:20221005T161904Z
UID:10000643-1667034000-1667044800@www.jointinitiatives.org
SUMMARY:CPR\, AED\, First Aid\, Medication Administration
DESCRIPTION:This training is offered by Bryan C. Maki\, RN\, an approved vendor of the Colorado Office of Early Childhood. You have the option to take CPR/AED/First Aid ($69) and/or Medication Administration 2 ($59). \n720-605-0605 | coloradocprpros.com \nThis is an in-person course held at the Joint Initiatives for Youth + Families offices. \n  \n 
URL:https://www.jointinitiatives.org/event/cpr-aed-first-aid-medication-administration/
LOCATION:Joint Initiatives for Youth + Families\, 1600 N. Union Blvd.\, Colorado Springs\, CO\, 80909\, United States
CATEGORIES:Professional Development
END:VEVENT
BEGIN:VEVENT
DTSTART;TZID=America/Denver:20221026T090000
DTEND;TZID=America/Denver:20221026T123000
DTSTAMP:20260420T170837
CREATED:20220803T152042Z
LAST-MODIFIED:20220803T152042Z
UID:10000629-1666774800-1666787400@www.jointinitiatives.org
SUMMARY:Pre-Licensing for Exempt Providers
DESCRIPTION:If you are exempt from taking the Pre-Licensing course in its entirety due to educational attainment\, this is the portion of the course that you are required to take.  You will receive information on Colorado Child Care Licensing Rules & Regulations as well as business rules related to becoming a licensed family child care provider. \nREGISTER HERE.
URL:https://www.jointinitiatives.org/event/pre-licensing-for-exempt-providers-2/2022-10-26/
LOCATION:Joint Initiatives for Youth + Families\, 1600 N. Union Blvd.\, Colorado Springs\, CO\, 80909\, United States
CATEGORIES:Professional Development
ORGANIZER;CN="Amber Pickens":MAILTO:apickens@jointinitiatives.org
END:VEVENT
BEGIN:VEVENT
DTSTART;TZID=America/Denver:20221025T090000
DTEND;TZID=America/Denver:20221025T123000
DTSTAMP:20260420T170837
CREATED:20220803T152042Z
LAST-MODIFIED:20220803T152042Z
UID:10000628-1666688400-1666701000@www.jointinitiatives.org
SUMMARY:Pre-Licensing for Exempt Providers
DESCRIPTION:If you are exempt from taking the Pre-Licensing course in its entirety due to educational attainment\, this is the portion of the course that you are required to take.  You will receive information on Colorado Child Care Licensing Rules & Regulations as well as business rules related to becoming a licensed family child care provider. \nREGISTER HERE.
URL:https://www.jointinitiatives.org/event/pre-licensing-for-exempt-providers-2/2022-10-25/
LOCATION:Joint Initiatives for Youth + Families\, 1600 N. Union Blvd.\, Colorado Springs\, CO\, 80909\, United States
CATEGORIES:Professional Development
ORGANIZER;CN="Amber Pickens":MAILTO:apickens@jointinitiatives.org
END:VEVENT
BEGIN:VEVENT
DTSTART;TZID=America/Denver:20221024T090000
DTEND;TZID=America/Denver:20221024T123000
DTSTAMP:20260420T170837
CREATED:20220803T152042Z
LAST-MODIFIED:20220803T152042Z
UID:10000627-1666602000-1666614600@www.jointinitiatives.org
SUMMARY:Pre-Licensing for Exempt Providers
DESCRIPTION:If you are exempt from taking the Pre-Licensing course in its entirety due to educational attainment\, this is the portion of the course that you are required to take.  You will receive information on Colorado Child Care Licensing Rules & Regulations as well as business rules related to becoming a licensed family child care provider. \nREGISTER HERE.
URL:https://www.jointinitiatives.org/event/pre-licensing-for-exempt-providers-2/2022-10-24/
LOCATION:Joint Initiatives for Youth + Families\, 1600 N. Union Blvd.\, Colorado Springs\, CO\, 80909\, United States
CATEGORIES:Professional Development
ORGANIZER;CN="Amber Pickens":MAILTO:apickens@jointinitiatives.org
END:VEVENT
BEGIN:VEVENT
DTSTART;TZID=America/Denver:20220920T180000
DTEND;TZID=America/Denver:20220920T190000
DTSTAMP:20260420T170837
CREATED:20220901T225921Z
LAST-MODIFIED:20220901T230121Z
UID:10000642-1663696800-1663700400@www.jointinitiatives.org
SUMMARY:Active Shooter Training
DESCRIPTION:Our FREE active shooter presentation is an informal presentation where participants will learn about what an active shooter event is\, trends during past events\, and how to best protect yourself during an event. This presentation will be presented by the Colorado Springs Police Department using the Department of Homeland Security method of Run\, Hide\, Fight. \n 
URL:https://www.jointinitiatives.org/event/active-shooter-training-2/
LOCATION:Joint Initiatives for Youth + Families\, 1600 N. Union Blvd.\, Colorado Springs\, CO\, 80909\, United States
CATEGORIES:Professional Development
END:VEVENT
END:VCALENDAR