BEGIN:VCALENDAR
VERSION:2.0
PRODID:-//Joint Initiatives - ECPv6.15.20//NONSGML v1.0//EN
CALSCALE:GREGORIAN
METHOD:PUBLISH
X-WR-CALNAME:Joint Initiatives
X-ORIGINAL-URL:https://www.jointinitiatives.org
X-WR-CALDESC:Events for Joint Initiatives
REFRESH-INTERVAL;VALUE=DURATION:PT1H
X-Robots-Tag:noindex
X-PUBLISHED-TTL:PT1H
BEGIN:VTIMEZONE
TZID:America/Denver
BEGIN:DAYLIGHT
TZOFFSETFROM:-0700
TZOFFSETTO:-0600
TZNAME:MDT
DTSTART:20220313T090000
END:DAYLIGHT
BEGIN:STANDARD
TZOFFSETFROM:-0600
TZOFFSETTO:-0700
TZNAME:MST
DTSTART:20221106T080000
END:STANDARD
BEGIN:DAYLIGHT
TZOFFSETFROM:-0700
TZOFFSETTO:-0600
TZNAME:MDT
DTSTART:20230312T090000
END:DAYLIGHT
BEGIN:STANDARD
TZOFFSETFROM:-0600
TZOFFSETTO:-0700
TZNAME:MST
DTSTART:20231105T080000
END:STANDARD
BEGIN:DAYLIGHT
TZOFFSETFROM:-0700
TZOFFSETTO:-0600
TZNAME:MDT
DTSTART:20240310T090000
END:DAYLIGHT
BEGIN:STANDARD
TZOFFSETFROM:-0600
TZOFFSETTO:-0700
TZNAME:MST
DTSTART:20241103T080000
END:STANDARD
END:VTIMEZONE
BEGIN:VEVENT
DTSTART;TZID=America/Denver:20230429T090000
DTEND;TZID=America/Denver:20230429T120000
DTSTAMP:20260423T160546
CREATED:20230413T210417Z
LAST-MODIFIED:20230413T210823Z
UID:10000597-1682758800-1682769600@www.jointinitiatives.org
SUMMARY:Ellicott Early Childhood Resource Fair
DESCRIPTION:Mark your calendars for APRIL 29th and plan to attend this special event featuring early childhood resources! \n\nCome learn more about launching your own business as a family child care provider or other careers in early childhood education. A Career Navigator will be available to provide assistance.\nFamilies will also be able to connect with other families and caregivers in their area as well as find resources to support children going to kindergarten in the fall.\n\nTo help us plan activities for children\, please RSVP HERE. \nTo share this event\, view the FLYER HERE.
URL:https://www.jointinitiatives.org/event/ellicott-early-childhood-resource-fair/
LOCATION:Ellicott Middle School\, 322 S. N. Ellicott Highway\, Calhan
CATEGORIES:Community Family Calendar,Events + Meetings
END:VEVENT
END:VCALENDAR