BEGIN:VCALENDAR
VERSION:2.0
PRODID:-//Joint Initiatives - ECPv6.15.20//NONSGML v1.0//EN
CALSCALE:GREGORIAN
METHOD:PUBLISH
X-ORIGINAL-URL:https://www.jointinitiatives.org
X-WR-CALDESC:Events for Joint Initiatives
REFRESH-INTERVAL;VALUE=DURATION:PT1H
X-Robots-Tag:noindex
X-PUBLISHED-TTL:PT1H
BEGIN:VTIMEZONE
TZID:America/Denver
BEGIN:DAYLIGHT
TZOFFSETFROM:-0700
TZOFFSETTO:-0600
TZNAME:MDT
DTSTART:20220313T090000
END:DAYLIGHT
BEGIN:STANDARD
TZOFFSETFROM:-0600
TZOFFSETTO:-0700
TZNAME:MST
DTSTART:20221106T080000
END:STANDARD
BEGIN:DAYLIGHT
TZOFFSETFROM:-0700
TZOFFSETTO:-0600
TZNAME:MDT
DTSTART:20230312T090000
END:DAYLIGHT
BEGIN:STANDARD
TZOFFSETFROM:-0600
TZOFFSETTO:-0700
TZNAME:MST
DTSTART:20231105T080000
END:STANDARD
BEGIN:DAYLIGHT
TZOFFSETFROM:-0700
TZOFFSETTO:-0600
TZNAME:MDT
DTSTART:20240310T090000
END:DAYLIGHT
BEGIN:STANDARD
TZOFFSETFROM:-0600
TZOFFSETTO:-0700
TZNAME:MST
DTSTART:20241103T080000
END:STANDARD
END:VTIMEZONE
BEGIN:VEVENT
DTSTART;TZID=America/Denver:20230923T100000
DTEND;TZID=America/Denver:20230923T140000
DTSTAMP:20260419T104913
CREATED:20230712T210823Z
LAST-MODIFIED:20230712T211013Z
UID:10000647-1695463200-1695477600@www.jointinitiatives.org
SUMMARY:Restorative Practice: Part of a Trauma-Informed Classroom Strategy (Sat.)
DESCRIPTION:Joint Initiatives for Youth + Families is offering a NEW learning session presenting the connection between trauma-informed practices and the five principles of restorative practice (relationship\, respect\, responsibility\, repair\, and reintegration). \nKathy Orr\, Executive Director of Peaceful Households\, will lead this learning session focused on understanding the role of trauma\, building community in the classroom\, and developing healthy relationships. Designed especially for early childhood educators\, this training will benefit center-based directors and staff\, family child care providers\, paraprofessionals\, and anyone working with young children. \nTo download flyer\, click HERE.
URL:https://www.jointinitiatives.org/event/restorative-practice-part-of-a-trauma-informed-classroom-strategy-sat/
LOCATION:Online
CATEGORIES:Professional Development
END:VEVENT
BEGIN:VEVENT
DTSTART;TZID=America/Denver:20230912T180000
DTEND;TZID=America/Denver:20230912T200000
DTSTAMP:20260419T104913
CREATED:20230607T185302Z
LAST-MODIFIED:20230811T151334Z
UID:10000645-1694541600-1694548800@www.jointinitiatives.org
SUMMARY:Restorative Practice: Part of a Trauma-Informed Classroom Strategy (Evening)
DESCRIPTION:Joint Initiatives for Youth + Families is offering a NEW learning session presenting the connection between trauma-informed practices and the five principles of restorative practice (relationship\, respect\, responsibility\, repair\, and reintegration). \nKathy Orr\, Executive Director of Peaceful Households\, will lead this learning session focused on understanding the role of trauma\, building community in the classroom\, and developing healthy relationships. Designed especially for early childhood educators\, this training will benefit center-based directors and staff\, family child care providers\, paraprofessionals\, and anyone working with young children. \nTo download flyer\, click HERE.
URL:https://www.jointinitiatives.org/event/restorative-practice-part-of-a-trauma-informed-classroom-strategy-2023-08-05/2023-09-12/
LOCATION:Online
CATEGORIES:Professional Development
END:VEVENT
BEGIN:VEVENT
DTSTART;TZID=America/Denver:20230905T180000
DTEND;TZID=America/Denver:20230905T200000
DTSTAMP:20260419T104913
CREATED:20230607T185302Z
LAST-MODIFIED:20230811T151334Z
UID:10000644-1693936800-1693944000@www.jointinitiatives.org
SUMMARY:Restorative Practice: Part of a Trauma-Informed Classroom Strategy (Evening)
DESCRIPTION:Joint Initiatives for Youth + Families is offering a NEW learning session presenting the connection between trauma-informed practices and the five principles of restorative practice (relationship\, respect\, responsibility\, repair\, and reintegration). \nKathy Orr\, Executive Director of Peaceful Households\, will lead this learning session focused on understanding the role of trauma\, building community in the classroom\, and developing healthy relationships. Designed especially for early childhood educators\, this training will benefit center-based directors and staff\, family child care providers\, paraprofessionals\, and anyone working with young children. \nTo download flyer\, click HERE.
URL:https://www.jointinitiatives.org/event/restorative-practice-part-of-a-trauma-informed-classroom-strategy-2023-08-05/2023-09-05/
LOCATION:Online
CATEGORIES:Professional Development
END:VEVENT
END:VCALENDAR