BEGIN:VCALENDAR
VERSION:2.0
PRODID:-//Joint Initiatives - ECPv6.15.20//NONSGML v1.0//EN
CALSCALE:GREGORIAN
METHOD:PUBLISH
X-ORIGINAL-URL:https://www.jointinitiatives.org
X-WR-CALDESC:Events for Joint Initiatives
REFRESH-INTERVAL;VALUE=DURATION:PT1H
X-Robots-Tag:noindex
X-PUBLISHED-TTL:PT1H
BEGIN:VTIMEZONE
TZID:America/Denver
BEGIN:DAYLIGHT
TZOFFSETFROM:-0700
TZOFFSETTO:-0600
TZNAME:MDT
DTSTART:20220313T090000
END:DAYLIGHT
BEGIN:STANDARD
TZOFFSETFROM:-0600
TZOFFSETTO:-0700
TZNAME:MST
DTSTART:20221106T080000
END:STANDARD
BEGIN:DAYLIGHT
TZOFFSETFROM:-0700
TZOFFSETTO:-0600
TZNAME:MDT
DTSTART:20230312T090000
END:DAYLIGHT
BEGIN:STANDARD
TZOFFSETFROM:-0600
TZOFFSETTO:-0700
TZNAME:MST
DTSTART:20231105T080000
END:STANDARD
BEGIN:DAYLIGHT
TZOFFSETFROM:-0700
TZOFFSETTO:-0600
TZNAME:MDT
DTSTART:20240310T090000
END:DAYLIGHT
BEGIN:STANDARD
TZOFFSETFROM:-0600
TZOFFSETTO:-0700
TZNAME:MST
DTSTART:20241103T080000
END:STANDARD
END:VTIMEZONE
BEGIN:VEVENT
DTSTART;TZID=America/Denver:20230520T090000
DTEND;TZID=America/Denver:20230520T120000
DTSTAMP:20260422T012409
CREATED:20230413T212611Z
LAST-MODIFIED:20230413T220755Z
UID:10000667-1684573200-1684584000@www.jointinitiatives.org
SUMMARY:Family Child Care Environment Rating Scale (FCCERS)
DESCRIPTION:In this three-hour overview of the Family Child Care Environment Rating Scale (FCCERS-3)\, we discuss best practices related to the protection of children’s health and safety\, supporting\, and guiding social/emotional development\, and opportunities for intellectual and language stimulation and learning activities. Participants will also learn about the FCCERS-3 subscales\, the rationale for the requirements of the scale\, and receive suggestions on how to meet the scale’s criteria. Participants engage in hands-on activities and will learn about the scoring process. \nClayton Early Learning will email participants two emails before the training. The first email should be sent one week prior to the training with general information and the second email the day before the training to include the Zoom link and FCCERS-3 Hints.  \n$20 | Free for CCCAP programs.
URL:https://www.jointinitiatives.org/event/family-child-care-environment-rating-scale-fccers/
LOCATION:Online
CATEGORIES:Professional Development
END:VEVENT
END:VCALENDAR