BEGIN:VCALENDAR
VERSION:2.0
PRODID:-//Joint Initiatives - ECPv6.15.20//NONSGML v1.0//EN
CALSCALE:GREGORIAN
METHOD:PUBLISH
X-ORIGINAL-URL:https://www.jointinitiatives.org
X-WR-CALDESC:Events for Joint Initiatives
REFRESH-INTERVAL;VALUE=DURATION:PT1H
X-Robots-Tag:noindex
X-PUBLISHED-TTL:PT1H
BEGIN:VTIMEZONE
TZID:America/Denver
BEGIN:DAYLIGHT
TZOFFSETFROM:-0700
TZOFFSETTO:-0600
TZNAME:MDT
DTSTART:20220313T090000
END:DAYLIGHT
BEGIN:STANDARD
TZOFFSETFROM:-0600
TZOFFSETTO:-0700
TZNAME:MST
DTSTART:20221106T080000
END:STANDARD
BEGIN:DAYLIGHT
TZOFFSETFROM:-0700
TZOFFSETTO:-0600
TZNAME:MDT
DTSTART:20230312T090000
END:DAYLIGHT
BEGIN:STANDARD
TZOFFSETFROM:-0600
TZOFFSETTO:-0700
TZNAME:MST
DTSTART:20231105T080000
END:STANDARD
BEGIN:DAYLIGHT
TZOFFSETFROM:-0700
TZOFFSETTO:-0600
TZNAME:MDT
DTSTART:20240310T090000
END:DAYLIGHT
BEGIN:STANDARD
TZOFFSETFROM:-0600
TZOFFSETTO:-0700
TZNAME:MST
DTSTART:20241103T080000
END:STANDARD
END:VTIMEZONE
BEGIN:VEVENT
DTSTART;VALUE=DATE:20231018
DTEND;VALUE=DATE:20231019
DTSTAMP:20260422T105536
CREATED:20230712T222147Z
LAST-MODIFIED:20231016T171023Z
UID:10000652-1697587200-1697673599@www.jointinitiatives.org
SUMMARY:EQIT | Sessions A\, B\, C\, and D
DESCRIPTION:The 48-hour EQIT Curriculum provides a solid introduction to infant and toddler development\, with a focus on providing quality group care for our youngest children. The EQIT course builds on the knowledge and experience of infant and toddler caregivers through interesting\, interactive\, and fun activities. The EQIT Curriculum has been approved by the Division of Child Care as one of the classes that can be used for Early Childhood Teacher (formerly Group Leader) Qualifications AND will count toward the Infant Toddler class that will be required for Director Qualifications. The Expanding Quality in Infant Toddler (EQIT) Care Curriculum consists of 16 modules\, covering the following topics: \n\nEmotional Development\nResponsive Care\nFamily Partnership\nSafety\, Health\, and Nutrition\nLearning Environments\nCurriculum\nLanguage Development\nLiteracy\nPhysical Development\nCulture\nChildren with Special Needs\nProfessionalism\n\nRegister in PDIS. \nSession A: July 27–September 21\, 2023\nSession B: October 18–December 19\, 2023\nSession C: February 1–April 4\, 2024\nSession D: April 15–June 10\, 2024 \nSee PDIS for specific dates and times.
URL:https://www.jointinitiatives.org/event/eqit-sessions-a-b-c-and-d/2023-10-18/
LOCATION:Online
CATEGORIES:Professional Development
END:VEVENT
BEGIN:VEVENT
DTSTART;TZID=America/Denver:20231021T073000
DTEND;TZID=America/Denver:20231021T163000
DTSTAMP:20260422T105536
CREATED:20230815T141448Z
LAST-MODIFIED:20230815T193308Z
UID:10000693-1697873400-1697905800@www.jointinitiatives.org
SUMMARY:Eyes Toward the Future Fall Conference | PPRFCA
DESCRIPTION:The Pikes Peak Region Family Child Care Association will present a fall conference\, “Eyes Towards the Future\,” on October 21\, 2023. Family Child Care Providers and early childhood program staff are invited to register. Sessions include Circle Time Engaging Practices\, Classroom Transitions\, and Challenging Behavior in Children. \nFor details and the link to register\, please click HERE.
URL:https://www.jointinitiatives.org/event/eyes-toward-the-future-fall-conference-pprfca/
LOCATION:Holy Cross Lutheran Church\, 4125 Constitution Ave.\, Colorado Springs
CATEGORIES:Events + Meetings,Professional Development
END:VEVENT
BEGIN:VEVENT
DTSTART;TZID=America/Denver:20231023T120000
DTEND;TZID=America/Denver:20231023T133000
DTSTAMP:20260422T105536
CREATED:20230712T220914Z
LAST-MODIFIED:20230811T172043Z
UID:10000650-1698062400-1698067800@www.jointinitiatives.org
SUMMARY:CLASS (Classroom Assessment Scoring System) Tool Overview
DESCRIPTION:CLASS not only defines teaching quality through the lens of interactions\, but it also provides the ability to measure and improve the interactions that matter most for children’s outcomes. And it’s a journey of continuous improvement that is data-driven.\nAs you implement CLASS\, you will:\n• Focus on high-quality interactions and create a shared understanding of quality in your program\n• Measure the quality of interactions to create a system that enables data-driven improvement\n• Improve teaching quality through tailored and individualized professional development \nThis training is presented by Cassy Reyes\, Foundations Trauma Coach + Trainer. \nView the flyer HERE.
URL:https://www.jointinitiatives.org/event/class-classroom-assessment-scoring-system-tool-overview/
LOCATION:Online
CATEGORIES:Professional Development
END:VEVENT
BEGIN:VEVENT
DTSTART;TZID=America/Denver:20231025T120000
DTEND;TZID=America/Denver:20231025T133000
DTSTAMP:20260422T105536
CREATED:20220316T145920Z
LAST-MODIFIED:20230321T201325Z
UID:10000673-1698235200-1698240600@www.jointinitiatives.org
SUMMARY:Health + Well-Being Committee Meeting
DESCRIPTION:The Health + Well-Being Committee is a subcommittee of the Alliance for Kids Council and meets quarterly (January\, April\, July\, and October). The committee is made up of agencies and individuals working collaboratively to guide the work of Alliance for Kids in meeting the goals and objectives of its Strategic Plan\, which are aligned with the Early Childhood Colorado Framework. \nMeeting details will be shared with committee members via email. If you have an interest in joining this committee\, please contact Bernadine McCarron\, Foundations Wellness Manager\, at bmccarron@jointinitiatives.org.
URL:https://www.jointinitiatives.org/event/health-well-being-committee-meeting/2023-10-25/
LOCATION:Online
CATEGORIES:Events + Meetings
END:VEVENT
END:VCALENDAR