BEGIN:VCALENDAR
VERSION:2.0
PRODID:-//Joint Initiatives - ECPv6.15.20//NONSGML v1.0//EN
CALSCALE:GREGORIAN
METHOD:PUBLISH
X-WR-CALNAME:Joint Initiatives
X-ORIGINAL-URL:https://www.jointinitiatives.org
X-WR-CALDESC:Events for Joint Initiatives
REFRESH-INTERVAL;VALUE=DURATION:PT1H
X-Robots-Tag:noindex
X-PUBLISHED-TTL:PT1H
BEGIN:VTIMEZONE
TZID:America/Denver
BEGIN:DAYLIGHT
TZOFFSETFROM:-0700
TZOFFSETTO:-0600
TZNAME:MDT
DTSTART:20220313T090000
END:DAYLIGHT
BEGIN:STANDARD
TZOFFSETFROM:-0600
TZOFFSETTO:-0700
TZNAME:MST
DTSTART:20221106T080000
END:STANDARD
BEGIN:DAYLIGHT
TZOFFSETFROM:-0700
TZOFFSETTO:-0600
TZNAME:MDT
DTSTART:20230312T090000
END:DAYLIGHT
BEGIN:STANDARD
TZOFFSETFROM:-0600
TZOFFSETTO:-0700
TZNAME:MST
DTSTART:20231105T080000
END:STANDARD
BEGIN:DAYLIGHT
TZOFFSETFROM:-0700
TZOFFSETTO:-0600
TZNAME:MDT
DTSTART:20240310T090000
END:DAYLIGHT
BEGIN:STANDARD
TZOFFSETFROM:-0600
TZOFFSETTO:-0700
TZNAME:MST
DTSTART:20241103T080000
END:STANDARD
END:VTIMEZONE
BEGIN:VEVENT
DTSTART;TZID=America/Denver:20230206T113000
DTEND;TZID=America/Denver:20230206T130000
DTSTAMP:20260425T101420
CREATED:20220901T234827Z
LAST-MODIFIED:20221005T161345Z
UID:10000579-1675683000-1675688400@www.jointinitiatives.org
SUMMARY:Workplace Culture
DESCRIPTION:This training offers healthy ways to promote a positive workplace culture implementing trauma sensitivity.
URL:https://www.jointinitiatives.org/event/workplace-culture/
LOCATION:Online
CATEGORIES:Professional Development
END:VEVENT
BEGIN:VEVENT
DTSTART;TZID=America/Denver:20230207T183000
DTEND;TZID=America/Denver:20230207T200000
DTSTAMP:20260425T101420
CREATED:20220408T154734Z
LAST-MODIFIED:20220509T195146Z
UID:10000683-1675794600-1675800000@www.jointinitiatives.org
SUMMARY:Learning + Development Committee Meeting
DESCRIPTION:The Learning + Development Committee is a subcommittee of the Alliance for Kids Council and meets every other month. The committee is made up of agencies and individuals working collaboratively to guide the work of Alliance for Kids in meeting the goals and objectives of its Strategic Plan\, which are aligned with the Early Childhood Colorado Framework. \nMeeting details will be shared with committee members via email. If you have an interest in joining this committee\, please contact Tanise Dixon\, Foundations Manager\, at tdixon@jointinitiatives.org.
URL:https://www.jointinitiatives.org/event/learning-development-committee-meeting/2023-02-07/
LOCATION:Online
CATEGORIES:Events + Meetings
ORGANIZER;CN="Tanise Dixon":MAILTO:tdixon@jointinitiatives.org
END:VEVENT
BEGIN:VEVENT
DTSTART;TZID=America/Denver:20230214T130000
DTEND;TZID=America/Denver:20230214T133000
DTSTAMP:20260425T101420
CREATED:20220509T202304Z
LAST-MODIFIED:20220509T202326Z
UID:10000610-1676379600-1676381400@www.jointinitiatives.org
SUMMARY:Alliance for Kids Legislative Subcommittee
DESCRIPTION:The Legislative Subcommittee of the Alliance for Kids Council meets monthly. \nMeeting details/Zoom will be shared with subcommittee members via email. If you would like more information\, please contact Kelly Hurtado\, Foundations Program Director\, at KHurtado@jointinitiatives.org.
URL:https://www.jointinitiatives.org/event/alliance-for-kids-legislative-subcommittee/2023-02-14/
LOCATION:Online
CATEGORIES:Events + Meetings
END:VEVENT
BEGIN:VEVENT
DTSTART;TZID=America/Denver:20230225T090000
DTEND;TZID=America/Denver:20230225T120000
DTSTAMP:20260425T101420
CREATED:20220624T223331Z
LAST-MODIFIED:20230203T153309Z
UID:10000615-1677315600-1677326400@www.jointinitiatives.org
SUMMARY:CPR/AED + First Aid Training
DESCRIPTION:The Foundations program of JI is partnering to host a quarterly CPR/AED & First Aid Training and Medication Administration at our new office! \nCost:\nCPR+AED+First Aid (9-11 am) is $69.00 paid to the vendor at the time of registration online\nMA (11 am – 12 pm) is $59 paid to the vendor at time of registration online \nApproved Vendor: Colorado CPR & Safety Professionals \nRegister HERE. \nFor questions for the trainer please see the instructor’s contact information below: \nBryan C. Maki\, RN\, CCHC\nOwner – Nurse Consultant\nApproved Vendor CO Office of Early Childhood \n720-605-0605 | coloradocprpros.com
URL:https://www.jointinitiatives.org/event/cpr-aed-first-aid-training/
LOCATION:Joint Initiatives for Youth + Families\, 1600 N. Union Blvd.\, Colorado Springs\, CO\, 80909\, United States
CATEGORIES:Professional Development
END:VEVENT
END:VCALENDAR