BEGIN:VCALENDAR
VERSION:2.0
PRODID:-//Joint Initiatives - ECPv6.15.20//NONSGML v1.0//EN
CALSCALE:GREGORIAN
METHOD:PUBLISH
X-ORIGINAL-URL:https://www.jointinitiatives.org
X-WR-CALDESC:Events for Joint Initiatives
REFRESH-INTERVAL;VALUE=DURATION:PT1H
X-Robots-Tag:noindex
X-PUBLISHED-TTL:PT1H
BEGIN:VTIMEZONE
TZID:America/Denver
BEGIN:DAYLIGHT
TZOFFSETFROM:-0700
TZOFFSETTO:-0600
TZNAME:MDT
DTSTART:20210314T090000
END:DAYLIGHT
BEGIN:STANDARD
TZOFFSETFROM:-0600
TZOFFSETTO:-0700
TZNAME:MST
DTSTART:20211107T080000
END:STANDARD
BEGIN:DAYLIGHT
TZOFFSETFROM:-0700
TZOFFSETTO:-0600
TZNAME:MDT
DTSTART:20220313T090000
END:DAYLIGHT
BEGIN:STANDARD
TZOFFSETFROM:-0600
TZOFFSETTO:-0700
TZNAME:MST
DTSTART:20221106T080000
END:STANDARD
BEGIN:DAYLIGHT
TZOFFSETFROM:-0700
TZOFFSETTO:-0600
TZNAME:MDT
DTSTART:20230312T090000
END:DAYLIGHT
BEGIN:STANDARD
TZOFFSETFROM:-0600
TZOFFSETTO:-0700
TZNAME:MST
DTSTART:20231105T080000
END:STANDARD
END:VTIMEZONE
BEGIN:VEVENT
DTSTART;TZID=America/Denver:20220712T130000
DTEND;TZID=America/Denver:20220712T133000
DTSTAMP:20260420T131250
CREATED:20220509T202304Z
LAST-MODIFIED:20220509T202326Z
UID:10000603-1657630800-1657632600@www.jointinitiatives.org
SUMMARY:Alliance for Kids Legislative Subcommittee
DESCRIPTION:The Legislative Subcommittee of the Alliance for Kids Council meets monthly. \nMeeting details/Zoom will be shared with subcommittee members via email. If you would like more information\, please contact Kelly Hurtado\, Foundations Program Director\, at KHurtado@jointinitiatives.org.
URL:https://www.jointinitiatives.org/event/alliance-for-kids-legislative-subcommittee/2022-07-12/
LOCATION:Online
CATEGORIES:Events + Meetings
END:VEVENT
BEGIN:VEVENT
DTSTART;TZID=America/Denver:20220725T113000
DTEND;TZID=America/Denver:20220725T150000
DTSTAMP:20260420T131250
CREATED:20220315T170532Z
LAST-MODIFIED:20220606T220538Z
UID:10000668-1658748600-1658761200@www.jointinitiatives.org
SUMMARY:Pre-Licensing for Exempt Providers
DESCRIPTION:All persons with a State of Colorado Director Certification\, two-year or four-year degree IN Early Childhood Education are exempt from the 15 hours of Pre-Licensing training but must have the following: \n\nProviders must have Standard Precautions and Medication Administration\, and current CPR/First Aid certification.\nProviders are required to attend the licensing rules and regulations overview as well as the family child care business requirements training (see below).\n\n\nRules\, Regulations & Business Rules for Family Child Care Homes\nThis course for exempt providers is offered on the first three days of each quarterly Pre-Licensing session from 11:30 am – 3:00 pm. Register HERE for July 25-27\, 2022.
URL:https://www.jointinitiatives.org/event/pre-licensing-for-exempt-providers/2022-07-25/
LOCATION:Online
CATEGORIES:Professional Development
END:VEVENT
BEGIN:VEVENT
DTSTART;TZID=America/Denver:20220726T113000
DTEND;TZID=America/Denver:20220726T150000
DTSTAMP:20260420T131250
CREATED:20220315T170532Z
LAST-MODIFIED:20220606T220538Z
UID:10000669-1658835000-1658847600@www.jointinitiatives.org
SUMMARY:Pre-Licensing for Exempt Providers
DESCRIPTION:All persons with a State of Colorado Director Certification\, two-year or four-year degree IN Early Childhood Education are exempt from the 15 hours of Pre-Licensing training but must have the following: \n\nProviders must have Standard Precautions and Medication Administration\, and current CPR/First Aid certification.\nProviders are required to attend the licensing rules and regulations overview as well as the family child care business requirements training (see below).\n\n\nRules\, Regulations & Business Rules for Family Child Care Homes\nThis course for exempt providers is offered on the first three days of each quarterly Pre-Licensing session from 11:30 am – 3:00 pm. Register HERE for July 25-27\, 2022.
URL:https://www.jointinitiatives.org/event/pre-licensing-for-exempt-providers/2022-07-26/
LOCATION:Online
CATEGORIES:Professional Development
END:VEVENT
BEGIN:VEVENT
DTSTART;TZID=America/Denver:20220727T113000
DTEND;TZID=America/Denver:20220727T150000
DTSTAMP:20260420T131250
CREATED:20220315T170532Z
LAST-MODIFIED:20220606T220538Z
UID:10000670-1658921400-1658934000@www.jointinitiatives.org
SUMMARY:Pre-Licensing for Exempt Providers
DESCRIPTION:All persons with a State of Colorado Director Certification\, two-year or four-year degree IN Early Childhood Education are exempt from the 15 hours of Pre-Licensing training but must have the following: \n\nProviders must have Standard Precautions and Medication Administration\, and current CPR/First Aid certification.\nProviders are required to attend the licensing rules and regulations overview as well as the family child care business requirements training (see below).\n\n\nRules\, Regulations & Business Rules for Family Child Care Homes\nThis course for exempt providers is offered on the first three days of each quarterly Pre-Licensing session from 11:30 am – 3:00 pm. Register HERE for July 25-27\, 2022.
URL:https://www.jointinitiatives.org/event/pre-licensing-for-exempt-providers/2022-07-27/
LOCATION:Online
CATEGORIES:Professional Development
END:VEVENT
END:VCALENDAR