BEGIN:VCALENDAR
VERSION:2.0
PRODID:-//Joint Initiatives - ECPv6.15.20//NONSGML v1.0//EN
CALSCALE:GREGORIAN
METHOD:PUBLISH
X-ORIGINAL-URL:https://www.jointinitiatives.org
X-WR-CALDESC:Events for Joint Initiatives
REFRESH-INTERVAL;VALUE=DURATION:PT1H
X-Robots-Tag:noindex
X-PUBLISHED-TTL:PT1H
BEGIN:VTIMEZONE
TZID:America/Denver
BEGIN:DAYLIGHT
TZOFFSETFROM:-0700
TZOFFSETTO:-0600
TZNAME:MDT
DTSTART:20250309T090000
END:DAYLIGHT
BEGIN:STANDARD
TZOFFSETFROM:-0600
TZOFFSETTO:-0700
TZNAME:MST
DTSTART:20251102T080000
END:STANDARD
BEGIN:DAYLIGHT
TZOFFSETFROM:-0700
TZOFFSETTO:-0600
TZNAME:MDT
DTSTART:20260308T090000
END:DAYLIGHT
BEGIN:STANDARD
TZOFFSETFROM:-0600
TZOFFSETTO:-0700
TZNAME:MST
DTSTART:20261101T080000
END:STANDARD
BEGIN:DAYLIGHT
TZOFFSETFROM:-0700
TZOFFSETTO:-0600
TZNAME:MDT
DTSTART:20270314T090000
END:DAYLIGHT
BEGIN:STANDARD
TZOFFSETFROM:-0600
TZOFFSETTO:-0700
TZNAME:MST
DTSTART:20271107T080000
END:STANDARD
END:VTIMEZONE
BEGIN:VEVENT
DTSTART;TZID=America/Denver:20260826T083000
DTEND;TZID=America/Denver:20260826T160000
DTSTAMP:20260420T084730
CREATED:20260114T150842Z
LAST-MODIFIED:20260114T151124Z
UID:10000733-1787733000-1787760000@www.jointinitiatives.org
SUMMARY:Child Development Associate+
DESCRIPTION:The CDA+\, created by Pikes Peak State College (PPSC)\, is a ten-session program (80 hours) that allows you to earn seven PLA college credits. If you have a current CDA\, check out this NO-COST program that includes $800 in funding for YOU. Successful completion will eliminate the need for CDA renewal! Check out the flyer for full details and the link to apply below. \nPROGRAM DETAILS \n\nJoint Initiatives for Youth + Families provides in-person training\non Thursdays – see sidebar at right.\nTraining is assignment- and participation-based\, with no testing\nrequired for successful program completion.\nCDA credential will be submitted for PLA college credits.\n\nPrerequisite: Have a current Child Development Associate®\n(CDA) Credential™. Your current CDA credential will be submitted\nfor college credits\, eliminating the need for continual CDA renewal. \n🔗CDA+ Flyer  \nPlease fill out this INTEREST FORM (also linked on flyer) and you will be contacted with more details. \n  \n  \n 
URL:https://www.jointinitiatives.org/event/child-development-associate-2/
LOCATION:JI/Foundations
CATEGORIES:Professional Development
END:VEVENT
END:VCALENDAR