BEGIN:VCALENDAR
VERSION:2.0
PRODID:-//Joint Initiatives - ECPv6.15.20//NONSGML v1.0//EN
CALSCALE:GREGORIAN
METHOD:PUBLISH
X-ORIGINAL-URL:https://www.jointinitiatives.org
X-WR-CALDESC:Events for Joint Initiatives
REFRESH-INTERVAL;VALUE=DURATION:PT1H
X-Robots-Tag:noindex
X-PUBLISHED-TTL:PT1H
BEGIN:VTIMEZONE
TZID:America/Denver
BEGIN:DAYLIGHT
TZOFFSETFROM:-0700
TZOFFSETTO:-0600
TZNAME:MDT
DTSTART:20250309T090000
END:DAYLIGHT
BEGIN:STANDARD
TZOFFSETFROM:-0600
TZOFFSETTO:-0700
TZNAME:MST
DTSTART:20251102T080000
END:STANDARD
BEGIN:DAYLIGHT
TZOFFSETFROM:-0700
TZOFFSETTO:-0600
TZNAME:MDT
DTSTART:20260308T090000
END:DAYLIGHT
BEGIN:STANDARD
TZOFFSETFROM:-0600
TZOFFSETTO:-0700
TZNAME:MST
DTSTART:20261101T080000
END:STANDARD
BEGIN:DAYLIGHT
TZOFFSETFROM:-0700
TZOFFSETTO:-0600
TZNAME:MDT
DTSTART:20270314T090000
END:DAYLIGHT
BEGIN:STANDARD
TZOFFSETFROM:-0600
TZOFFSETTO:-0700
TZNAME:MST
DTSTART:20271107T080000
END:STANDARD
END:VTIMEZONE
BEGIN:VEVENT
DTSTART;TZID=America/Denver:20260324T170000
DTEND;TZID=America/Denver:20260324T190000
DTSTAMP:20260423T035611
CREATED:20260320T144521Z
LAST-MODIFIED:20260320T144746Z
UID:10000771-1774371600-1774378800@www.jointinitiatives.org
SUMMARY:Derechos De Inquilinos 101
DESCRIPTION:Volante- Renters Rights 3.26-accesible \nPenrose Library\, Columbine B \nRegístrese\nAsista en Línea\nLlame (solo audio): +1 720-617-3426\nID de conferencia telefónica: 756 339 901# \nEn este taller\, el abogado Clinton Albert de Colorado Legal Services discutirá una amplia variedad de temas sobre el arrendamiento\, como conceptos básicos del alquiler\, acomodaciones y modificaciones razonables\, depósitos\, reparaciones\, y desalojos. \nPara más información sobre este y otros eventos vaya a: coloradosprings.gov/renters101\nSi necesita ayuda auxiliar o servicios de interpretación\, puede solicitarlo hasta el 9 de marzo de manera gratuita:\nLlamando al (719) 385-5912\nEscribiendo a CityHousingAndHomelessnessResponse.SMB@coloradosprings.gov \n 
URL:https://www.jointinitiatives.org/event/derechos-de-inquilinos-101/
LOCATION:Penrose Library\, 20 N. Cascade Ave.\, 80903
CATEGORIES:Community Family Calendar
END:VEVENT
BEGIN:VEVENT
DTSTART;TZID=America/Denver:20260414T160000
DTEND;TZID=America/Denver:20260414T190000
DTSTAMP:20260423T035611
CREATED:20260320T142552Z
LAST-MODIFIED:20260320T142552Z
UID:10000769-1776182400-1776193200@www.jointinitiatives.org
SUMMARY:Southeast COS Housing Legal Night
DESCRIPTION:This event is brought to you by the Community Economic Defense Project. \nEvent: A third space for tenants to unite to learn more about tenant legal protections and resources. \nHousing Legal Night Flyer HERE
URL:https://www.jointinitiatives.org/event/southeast-cos-housing-legal-night/
LOCATION:The Family Success Center\, 1520 Verde Dr.\, Colorado Springs\, CO\, 80909\, United States
CATEGORIES:Community Family Calendar
END:VEVENT
BEGIN:VEVENT
DTSTART;TZID=America/Denver:20260718T150000
DTEND;TZID=America/Denver:20260718T173000
DTSTAMP:20260423T035611
CREATED:20260320T143145Z
LAST-MODIFIED:20260320T143145Z
UID:10000770-1784386800-1784395800@www.jointinitiatives.org
SUMMARY:Disability Connections 7th Annual Concert and Resource Fair
DESCRIPTION:Join us for the 2026 Summer Concert & Resource Fair 🎶🤝 — a welcoming space for people with disabilities\, families\, and allies to connect\, relax\, and discover practical support. \nBy completing this community registration form\, you help Disability Connections plan accessible seating\, accommodations\, and resource booths that reflect real needs. \nYour details guide how we shape an inclusive event with music\, information\, and services that support everyday life. \nRSVP HERE
URL:https://www.jointinitiatives.org/event/disability-connections-7th-annual-concert-and-resource-fair/
LOCATION:2020 N. Academy Blvd.
CATEGORIES:Community Family Calendar
END:VEVENT
BEGIN:VEVENT
DTSTART;TZID=America/Denver:20260926T080000
DTEND;TZID=America/Denver:20260926T140000
DTSTAMP:20260423T035611
CREATED:20260320T145201Z
LAST-MODIFIED:20260320T145201Z
UID:10000772-1790409600-1790431200@www.jointinitiatives.org
SUMMARY:Fishing Has No Boundaries
DESCRIPTION:Fishing Has No Boundaries® \nColorado Springs Chapter \n2026 19th Annual Event \nFHNB full page flyer 2026 \nWho: Persons with disabilities\, friends\, family\, and attendants \nWhat: A day PACKED with fun\, fishing\, boating\, raffles and eating! \nWhen: September 26th or 27th\, 2026-Check in starts at 8:00 am *Fishing is from 9:00am –2:00pm \n*Registration deadline for PARTICIPANTS ONLY Sept.\, 6th 2026 \nWhere: Pueblo State Park – Meet at South Shore Boat Ramp \nWhy: To open the world of fishing to people of all abilities! \nProvided: Rods\, reels\, life vests\, adaptive fishing equipment\, bait\, fish cleaning\, boats\, pontoons\, guides\, and lunch! \nJoin u s for a day of fun\, fishing and camaraderie! \nCost: $35 per participant\, $15 per friend\, family member\, or attendant. \nA limited number of scholarships are available. Cheryl Saldana – Cheryl@csfhnb.org \n719-873-FHNB/719-33 \n 
URL:https://www.jointinitiatives.org/event/fishing-has-no-boundaries/2026-09-26/
LOCATION:Pueblo State Park
CATEGORIES:Community Family Calendar
END:VEVENT
BEGIN:VEVENT
DTSTART;TZID=America/Denver:20260927T080000
DTEND;TZID=America/Denver:20260927T170000
DTSTAMP:20260423T035611
CREATED:20260320T145201Z
LAST-MODIFIED:20260320T145201Z
UID:10000773-1790496000-1790528400@www.jointinitiatives.org
SUMMARY:Fishing Has No Boundaries
DESCRIPTION:Fishing Has No Boundaries® \nColorado Springs Chapter \n2026 19th Annual Event \nFHNB full page flyer 2026 \nWho: Persons with disabilities\, friends\, family\, and attendants \nWhat: A day PACKED with fun\, fishing\, boating\, raffles and eating! \nWhen: September 26th or 27th\, 2026-Check in starts at 8:00 am *Fishing is from 9:00am –2:00pm \n*Registration deadline for PARTICIPANTS ONLY Sept.\, 6th 2026 \nWhere: Pueblo State Park – Meet at South Shore Boat Ramp \nWhy: To open the world of fishing to people of all abilities! \nProvided: Rods\, reels\, life vests\, adaptive fishing equipment\, bait\, fish cleaning\, boats\, pontoons\, guides\, and lunch! \nJoin u s for a day of fun\, fishing and camaraderie! \nCost: $35 per participant\, $15 per friend\, family member\, or attendant. \nA limited number of scholarships are available. Cheryl Saldana – Cheryl@csfhnb.org \n719-873-FHNB/719-33 \n 
URL:https://www.jointinitiatives.org/event/fishing-has-no-boundaries/2026-09-27/
LOCATION:Pueblo State Park
CATEGORIES:Community Family Calendar
END:VEVENT
END:VCALENDAR