BEGIN:VCALENDAR
VERSION:2.0
PRODID:-//Joint Initiatives - ECPv6.15.20//NONSGML v1.0//EN
CALSCALE:GREGORIAN
METHOD:PUBLISH
X-WR-CALNAME:Joint Initiatives
X-ORIGINAL-URL:https://www.jointinitiatives.org
X-WR-CALDESC:Events for Joint Initiatives
REFRESH-INTERVAL;VALUE=DURATION:PT1H
X-Robots-Tag:noindex
X-PUBLISHED-TTL:PT1H
BEGIN:VTIMEZONE
TZID:America/Denver
BEGIN:DAYLIGHT
TZOFFSETFROM:-0700
TZOFFSETTO:-0600
TZNAME:MDT
DTSTART:20250309T090000
END:DAYLIGHT
BEGIN:STANDARD
TZOFFSETFROM:-0600
TZOFFSETTO:-0700
TZNAME:MST
DTSTART:20251102T080000
END:STANDARD
BEGIN:DAYLIGHT
TZOFFSETFROM:-0700
TZOFFSETTO:-0600
TZNAME:MDT
DTSTART:20260308T090000
END:DAYLIGHT
BEGIN:STANDARD
TZOFFSETFROM:-0600
TZOFFSETTO:-0700
TZNAME:MST
DTSTART:20261101T080000
END:STANDARD
BEGIN:DAYLIGHT
TZOFFSETFROM:-0700
TZOFFSETTO:-0600
TZNAME:MDT
DTSTART:20270314T090000
END:DAYLIGHT
BEGIN:STANDARD
TZOFFSETFROM:-0600
TZOFFSETTO:-0700
TZNAME:MST
DTSTART:20271107T080000
END:STANDARD
END:VTIMEZONE
BEGIN:VEVENT
DTSTART;TZID=America/Denver:20260211T100000
DTEND;TZID=America/Denver:20260211T160000
DTSTAMP:20260420T010502
CREATED:20260205T183158Z
LAST-MODIFIED:20260205T183158Z
UID:10000765-1770804000-1770825600@www.jointinitiatives.org
SUMMARY:FREE Vaccine Clinic for Families
DESCRIPTION:There will be a vaccine clinic at the Ascend Center – located at Galileo Middle School. \nPlease enter through the blue double doors that face Union Blvd. \nVaccines include: \nFlu\, Hep A\, Hep B\, HPV\, HiB\, MMR\, Meningitis\, Pneumonia\, Polio\, Rotavirus\, Tdap/DTap\, Varicella \nVaccine Clinic Flyer \nREGISTER HERE:  bit.ly/VaccineClinicFEB2026 \n 
URL:https://www.jointinitiatives.org/event/free-vaccine-clinic-for-families/
LOCATION:JI Ascend Center\, 1600 N. Union Blvd.\, Colorado Springs\, CO\, 80909\, United States
CATEGORIES:Community Family Calendar
END:VEVENT
END:VCALENDAR