BEGIN:VCALENDAR
VERSION:2.0
PRODID:-//Joint Initiatives - ECPv6.15.20//NONSGML v1.0//EN
CALSCALE:GREGORIAN
METHOD:PUBLISH
X-ORIGINAL-URL:https://www.jointinitiatives.org
X-WR-CALDESC:Events for Joint Initiatives
REFRESH-INTERVAL;VALUE=DURATION:PT1H
X-Robots-Tag:noindex
X-PUBLISHED-TTL:PT1H
BEGIN:VTIMEZONE
TZID:America/Denver
BEGIN:DAYLIGHT
TZOFFSETFROM:-0700
TZOFFSETTO:-0600
TZNAME:MDT
DTSTART:20250309T090000
END:DAYLIGHT
BEGIN:STANDARD
TZOFFSETFROM:-0600
TZOFFSETTO:-0700
TZNAME:MST
DTSTART:20251102T080000
END:STANDARD
BEGIN:DAYLIGHT
TZOFFSETFROM:-0700
TZOFFSETTO:-0600
TZNAME:MDT
DTSTART:20260308T090000
END:DAYLIGHT
BEGIN:STANDARD
TZOFFSETFROM:-0600
TZOFFSETTO:-0700
TZNAME:MST
DTSTART:20261101T080000
END:STANDARD
BEGIN:DAYLIGHT
TZOFFSETFROM:-0700
TZOFFSETTO:-0600
TZNAME:MDT
DTSTART:20270314T090000
END:DAYLIGHT
BEGIN:STANDARD
TZOFFSETFROM:-0600
TZOFFSETTO:-0700
TZNAME:MST
DTSTART:20271107T080000
END:STANDARD
END:VTIMEZONE
BEGIN:VEVENT
DTSTART;TZID=America/Denver:20260324T170000
DTEND;TZID=America/Denver:20260324T190000
DTSTAMP:20260419T083515
CREATED:20260320T144521Z
LAST-MODIFIED:20260320T144746Z
UID:10000771-1774371600-1774378800@www.jointinitiatives.org
SUMMARY:Derechos De Inquilinos 101
DESCRIPTION:Volante- Renters Rights 3.26-accesible \nPenrose Library\, Columbine B \nRegístrese\nAsista en Línea\nLlame (solo audio): +1 720-617-3426\nID de conferencia telefónica: 756 339 901# \nEn este taller\, el abogado Clinton Albert de Colorado Legal Services discutirá una amplia variedad de temas sobre el arrendamiento\, como conceptos básicos del alquiler\, acomodaciones y modificaciones razonables\, depósitos\, reparaciones\, y desalojos. \nPara más información sobre este y otros eventos vaya a: coloradosprings.gov/renters101\nSi necesita ayuda auxiliar o servicios de interpretación\, puede solicitarlo hasta el 9 de marzo de manera gratuita:\nLlamando al (719) 385-5912\nEscribiendo a CityHousingAndHomelessnessResponse.SMB@coloradosprings.gov \n 
URL:https://www.jointinitiatives.org/event/derechos-de-inquilinos-101/
LOCATION:Penrose Library\, 20 N. Cascade Ave.\, 80903
CATEGORIES:Community Family Calendar
END:VEVENT
END:VCALENDAR