BEGIN:VCALENDAR
VERSION:2.0
PRODID:-//Joint Initiatives - ECPv6.15.20//NONSGML v1.0//EN
CALSCALE:GREGORIAN
METHOD:PUBLISH
X-ORIGINAL-URL:https://www.jointinitiatives.org
X-WR-CALDESC:Events for Joint Initiatives
REFRESH-INTERVAL;VALUE=DURATION:PT1H
X-Robots-Tag:noindex
X-PUBLISHED-TTL:PT1H
BEGIN:VTIMEZONE
TZID:America/Denver
BEGIN:DAYLIGHT
TZOFFSETFROM:-0700
TZOFFSETTO:-0600
TZNAME:MDT
DTSTART:20240310T090000
END:DAYLIGHT
BEGIN:STANDARD
TZOFFSETFROM:-0600
TZOFFSETTO:-0700
TZNAME:MST
DTSTART:20241103T080000
END:STANDARD
BEGIN:DAYLIGHT
TZOFFSETFROM:-0700
TZOFFSETTO:-0600
TZNAME:MDT
DTSTART:20250309T090000
END:DAYLIGHT
BEGIN:STANDARD
TZOFFSETFROM:-0600
TZOFFSETTO:-0700
TZNAME:MST
DTSTART:20251102T080000
END:STANDARD
BEGIN:DAYLIGHT
TZOFFSETFROM:-0700
TZOFFSETTO:-0600
TZNAME:MDT
DTSTART:20260308T090000
END:DAYLIGHT
BEGIN:STANDARD
TZOFFSETFROM:-0600
TZOFFSETTO:-0700
TZNAME:MST
DTSTART:20261101T080000
END:STANDARD
END:VTIMEZONE
BEGIN:VEVENT
DTSTART;TZID=America/Denver:20251008T093000
DTEND;TZID=America/Denver:20251008T110000
DTSTAMP:20260421T101705
CREATED:20250417T204242Z
LAST-MODIFIED:20250812T165951Z
UID:10000561-1759915800-1759921200@www.jointinitiatives.org
SUMMARY:FREE Playgroup for Parents + Caregivers
DESCRIPTION:Join us for PLAYGROUP every other Wednesday from 9:30 – 11 am at JI’s Ascend Center location (1600 N. Union Blvd.) \n\nAugust 13 and 27\nSeptember 10 and 24\nOctober 8 and 22\nNovember 5 and 19\n\nChildren (ages birth–5) and their parents\, caregivers\, grandparents\, and/or favorite adults are invited for a playful morning of music\, movement\, art\, and fun together! \nThis playgroup embraces children of all abilities. Older siblings are welcome\, but the focus of the group will be on children five and under.\nAdults must supervise their children. \nTo save time at the check-in table\, REGISTRATION is REQUESTED.
URL:https://www.jointinitiatives.org/event/free-playgroup-for-parents-caregivers/2025-10-08/
LOCATION:JI Ascend Center\, 1600 N. Union Blvd.\, Colorado Springs\, CO\, 80909\, United States
CATEGORIES:Community Family Calendar
END:VEVENT
END:VCALENDAR