BEGIN:VCALENDAR
VERSION:2.0
PRODID:-//Joint Initiatives - ECPv6.15.20//NONSGML v1.0//EN
CALSCALE:GREGORIAN
METHOD:PUBLISH
X-WR-CALNAME:Joint Initiatives
X-ORIGINAL-URL:https://www.jointinitiatives.org
X-WR-CALDESC:Events for Joint Initiatives
REFRESH-INTERVAL;VALUE=DURATION:PT1H
X-Robots-Tag:noindex
X-PUBLISHED-TTL:PT1H
BEGIN:VTIMEZONE
TZID:America/Denver
BEGIN:DAYLIGHT
TZOFFSETFROM:-0700
TZOFFSETTO:-0600
TZNAME:MDT
DTSTART:20230312T090000
END:DAYLIGHT
BEGIN:STANDARD
TZOFFSETFROM:-0600
TZOFFSETTO:-0700
TZNAME:MST
DTSTART:20231105T080000
END:STANDARD
BEGIN:DAYLIGHT
TZOFFSETFROM:-0700
TZOFFSETTO:-0600
TZNAME:MDT
DTSTART:20240310T090000
END:DAYLIGHT
BEGIN:STANDARD
TZOFFSETFROM:-0600
TZOFFSETTO:-0700
TZNAME:MST
DTSTART:20241103T080000
END:STANDARD
BEGIN:DAYLIGHT
TZOFFSETFROM:-0700
TZOFFSETTO:-0600
TZNAME:MDT
DTSTART:20250309T090000
END:DAYLIGHT
BEGIN:STANDARD
TZOFFSETFROM:-0600
TZOFFSETTO:-0700
TZNAME:MST
DTSTART:20251102T080000
END:STANDARD
END:VTIMEZONE
BEGIN:VEVENT
DTSTART;TZID=America/Denver:20241016T130000
DTEND;TZID=America/Denver:20241016T140000
DTSTAMP:20260420T120455
CREATED:20241011T162434Z
LAST-MODIFIED:20241011T162918Z
UID:10000543-1729083600-1729087200@www.jointinitiatives.org
SUMMARY:Child Care Focus Group for Parents + Caregivers
DESCRIPTION:We’re inviting parents of young children (ages birth–5) to join an in-person focus group and share their experiences and insights on early childhood care\, education\, and access. The purpose of these focus groups is to understand the unique needs of our community and explore opportunities for expanding Early Head Start programs where they’re needed most. \n\nThis event is offered in person. Focus group is limited to 8 participants\, and you must reside in El Paso County\, Colorado. \nChild care is offered upon request through the registration page. \nAfter the focus group\, all adult participants will receive a $125 Walmart gift card as a thank you for your time. Limit one gift card per household. ID will be required\, and the address must match the address on your registration. \nDownload flyer HERE.
URL:https://www.jointinitiatives.org/event/child-care-focus-group-for-parents-caregivers/
LOCATION:CO
CATEGORIES:Events + Meetings
END:VEVENT
END:VCALENDAR