BEGIN:VCALENDAR
VERSION:2.0
PRODID:-//Joint Initiatives - ECPv6.15.20//NONSGML v1.0//EN
CALSCALE:GREGORIAN
METHOD:PUBLISH
X-WR-CALNAME:Joint Initiatives
X-ORIGINAL-URL:https://www.jointinitiatives.org
X-WR-CALDESC:Events for Joint Initiatives
REFRESH-INTERVAL;VALUE=DURATION:PT1H
X-Robots-Tag:noindex
X-PUBLISHED-TTL:PT1H
BEGIN:VTIMEZONE
TZID:America/Denver
BEGIN:DAYLIGHT
TZOFFSETFROM:-0700
TZOFFSETTO:-0600
TZNAME:MDT
DTSTART:20230312T090000
END:DAYLIGHT
BEGIN:STANDARD
TZOFFSETFROM:-0600
TZOFFSETTO:-0700
TZNAME:MST
DTSTART:20231105T080000
END:STANDARD
BEGIN:DAYLIGHT
TZOFFSETFROM:-0700
TZOFFSETTO:-0600
TZNAME:MDT
DTSTART:20240310T090000
END:DAYLIGHT
BEGIN:STANDARD
TZOFFSETFROM:-0600
TZOFFSETTO:-0700
TZNAME:MST
DTSTART:20241103T080000
END:STANDARD
BEGIN:DAYLIGHT
TZOFFSETFROM:-0700
TZOFFSETTO:-0600
TZNAME:MDT
DTSTART:20250309T090000
END:DAYLIGHT
BEGIN:STANDARD
TZOFFSETFROM:-0600
TZOFFSETTO:-0700
TZNAME:MST
DTSTART:20251102T080000
END:STANDARD
END:VTIMEZONE
BEGIN:VEVENT
DTSTART;TZID=America/Denver:20240120T080000
DTEND;TZID=America/Denver:20240120T140000
DTSTAMP:20260421T152508
CREATED:20221024T203809Z
LAST-MODIFIED:20240108T191956Z
UID:10000593-1705737600-1705759200@www.jointinitiatives.org
SUMMARY:Simple Gift Scholars | Early Childhood Enrichment Training
DESCRIPTION:Join us for a morning of networking and enrichment training featuring the music and literacy programming of the early childhood Simple Gift Series on PBS. Launched here in Colorado Springs\, this unique program works to quiet the world around every child\, while honoring the power of human connectedness and gratitude for all life’s Simple Gifts! Join Linda Weise\, the creator of the program\, as she shares original songs and books\, and teaches you how you  can bring these elements to your classroom while utilizing the program as an additional teaching tool.
URL:https://www.jointinitiatives.org/event/simple-gift-networking-enrichment-training-for-early-childhood-professionals/
LOCATION:Simple Gift Scholars\, 127 1/2 Bijou St.\, Suite 1\, Colorado Springs
CATEGORIES:Professional Development
END:VEVENT
END:VCALENDAR