BEGIN:VCALENDAR
VERSION:2.0
PRODID:-//Joint Initiatives - ECPv6.15.20//NONSGML v1.0//EN
CALSCALE:GREGORIAN
METHOD:PUBLISH
X-WR-CALNAME:Joint Initiatives
X-ORIGINAL-URL:https://www.jointinitiatives.org
X-WR-CALDESC:Events for Joint Initiatives
REFRESH-INTERVAL;VALUE=DURATION:PT1H
X-Robots-Tag:noindex
X-PUBLISHED-TTL:PT1H
BEGIN:VTIMEZONE
TZID:America/Denver
BEGIN:DAYLIGHT
TZOFFSETFROM:-0700
TZOFFSETTO:-0600
TZNAME:MDT
DTSTART:20220313T090000
END:DAYLIGHT
BEGIN:STANDARD
TZOFFSETFROM:-0600
TZOFFSETTO:-0700
TZNAME:MST
DTSTART:20221106T080000
END:STANDARD
BEGIN:DAYLIGHT
TZOFFSETFROM:-0700
TZOFFSETTO:-0600
TZNAME:MDT
DTSTART:20230312T090000
END:DAYLIGHT
BEGIN:STANDARD
TZOFFSETFROM:-0600
TZOFFSETTO:-0700
TZNAME:MST
DTSTART:20231105T080000
END:STANDARD
BEGIN:DAYLIGHT
TZOFFSETFROM:-0700
TZOFFSETTO:-0600
TZNAME:MDT
DTSTART:20240310T090000
END:DAYLIGHT
BEGIN:STANDARD
TZOFFSETFROM:-0600
TZOFFSETTO:-0700
TZNAME:MST
DTSTART:20241103T080000
END:STANDARD
END:VTIMEZONE
BEGIN:VEVENT
DTSTART;TZID=America/Denver:20230906T164500
DTEND;TZID=America/Denver:20230906T184500
DTSTAMP:20260423T221207
CREATED:20230201T231026Z
LAST-MODIFIED:20230824T191029Z
UID:10000596-1694018700-1694025900@www.jointinitiatives.org
SUMMARY:UPK Town Hall for Early Childhood Programs
DESCRIPTION:Early childhood programs are invited to join us for a special El Paso County Virtual Universal Pre-K (UPK) Town Hall on Wednesday\, September 6th from 4:45–6:45 pm*\, hosted by Joint Initiatives for Youth + Families\, the Local Coordinating Organization for UPK. This Town Hall will feature a presentation by the Colorado Department of Early Childhood and breakout sessions for center-based early childhood programs\, family child care homes (FCCH)\, and school district preschools to learn and ask questions about UPK. \n\n4:45–5:30 pm | School District Breakout Session\n5:30–6:00 pm | CDEC Presentation on major updates\n6:00–6:45 pm | Center and FCCH Breakout Sessions\n\n*School Districts: Please join the Town Hall at 4:45 for the Breakout Session\, followed by the CDEC presentation at 5:30 pm. \n*Centers and Family Child Care Homes: Please join the Town Hall at 5:30 pm for the CDEC presentation\, followed by Breakout Session at 6:00 pm. \nTo help us prepare for the event\, participants are encouraged to submit questions in advance. This option is included on the registration form. \nView and share Town Hall Flyer HERE.
URL:https://www.jointinitiatives.org/event/upk-town-hall-for-el-paso-county-early-childhood-programs/
LOCATION:Online
CATEGORIES:Events + Meetings
END:VEVENT
END:VCALENDAR