BEGIN:VCALENDAR
VERSION:2.0
PRODID:-//Joint Initiatives - ECPv6.15.20//NONSGML v1.0//EN
CALSCALE:GREGORIAN
METHOD:PUBLISH
X-ORIGINAL-URL:https://www.jointinitiatives.org
X-WR-CALDESC:Events for Joint Initiatives
REFRESH-INTERVAL;VALUE=DURATION:PT1H
X-Robots-Tag:noindex
X-PUBLISHED-TTL:PT1H
BEGIN:VTIMEZONE
TZID:America/Denver
BEGIN:DAYLIGHT
TZOFFSETFROM:-0700
TZOFFSETTO:-0600
TZNAME:MDT
DTSTART:20210314T090000
END:DAYLIGHT
BEGIN:STANDARD
TZOFFSETFROM:-0600
TZOFFSETTO:-0700
TZNAME:MST
DTSTART:20211107T080000
END:STANDARD
BEGIN:DAYLIGHT
TZOFFSETFROM:-0700
TZOFFSETTO:-0600
TZNAME:MDT
DTSTART:20220313T090000
END:DAYLIGHT
BEGIN:STANDARD
TZOFFSETFROM:-0600
TZOFFSETTO:-0700
TZNAME:MST
DTSTART:20221106T080000
END:STANDARD
BEGIN:DAYLIGHT
TZOFFSETFROM:-0700
TZOFFSETTO:-0600
TZNAME:MDT
DTSTART:20230312T090000
END:DAYLIGHT
BEGIN:STANDARD
TZOFFSETFROM:-0600
TZOFFSETTO:-0700
TZNAME:MST
DTSTART:20231105T080000
END:STANDARD
END:VTIMEZONE
BEGIN:VEVENT
DTSTART;TZID=America/Denver:20221214T170000
DTEND;TZID=America/Denver:20221214T190000
DTSTAMP:20260423T043657
CREATED:20221130T232831Z
LAST-MODIFIED:20221130T234126Z
UID:10000594-1671037200-1671044400@www.jointinitiatives.org
SUMMARY:Universal Pre-K Town Hall
DESCRIPTION:Joint Initiatives for Youth + Families\, the Local Coordinating Organization (LCO) for Universal Pre-K (UPK)\, invites you to participate in a special UPK Town Hall on December 14th. \nThis Town Hall will be an opportunity for our early childhood community of programs\, professionals\, and families with young children to learn and ask questions about the Colorado Universal Pre-K (UPK) Program that will begin with the 2023-24 school year. \nTopics will include: \n\nUPK + Local Coordinating Organization Facts\nEligibility\nRate Setting\nProvider Agreements\n\nTo help us prepare for the event\, participants are encouraged to submit questions in advance. This option is included on the registration form. \nIn the event of inclement weather\, this Town Hall will shift to a virtual platform using the Zoom link provided in your registration confirmation. \nLight refreshments and beverages will be provided. \nIMPORTANT! Please share this invitation widely. All are welcome!
URL:https://www.jointinitiatives.org/event/universal-pre-k-town-hall/
LOCATION:CPCD giving children a head start\, 2330 Robinson St.\,\, COS
CATEGORIES:Community Family Calendar,Events + Meetings
END:VEVENT
END:VCALENDAR